BEGIN:VCALENDAR
VERSION:2.0
PRODID:-//wp-events-plugin.com//7.2.3.1//EN
TZID:Europe/Berlin
X-WR-TIMEZONE:Europe/Berlin
BEGIN:VEVENT
UID:2263@heimatverein-verl.de
DTSTART;TZID=Europe/Berlin:20260516T133000
DTEND;TZID=Europe/Berlin:20260516T153000
DTSTAMP:20260421T065853Z
URL:https://heimatverein-verl.de/events/zu-besuch-bei-libelle-frosch-co-2/
SUMMARY:Zu Besuch bei Libelle\, Frosch & Co
DESCRIPTION:Wir erkunden was in und am Bach lebt. Gummistiefel sind von Vor
 teil.\n\nEine Bacherkundung für Kinder im Alter von 4-12 Jahren in Beglei
 tung eines Erwachsenen.\n\nTreffpunkt: Parkplatz an der Dorfmühle am Frie
 dhofweg. Anmeldung: M. Schwan Tel.01709969333.\n\nEin weiterer Termin find
 et am Samstag 23.5. zur gleichen Uhrzeit statt.\n\nLeitung: Fabio Balke\n\
 n&nbsp\;
CATEGORIES:Führungen,Kinder und Jugend,Natur und Landschaft
LOCATION:Parkplatz an der Dorfmühle\, Friedhofsweg 39\, Verl \, Deutschlan
 d
X-APPLE-STRUCTURED-LOCATION;VALUE=URI;X-ADDRESS=Friedhofsweg 39\, Verl \, D
 eutschland;X-APPLE-RADIUS=100;X-TITLE=Parkplatz an der Dorfmühle:geo:0,0
END:VEVENT
BEGIN:VTIMEZONE
TZID:Europe/Berlin
X-LIC-LOCATION:Europe/Berlin
BEGIN:DAYLIGHT
DTSTART:20260329T030000
TZOFFSETFROM:+0100
TZOFFSETTO:+0200
TZNAME:CEST
END:DAYLIGHT
END:VTIMEZONE
END:VCALENDAR