BEGIN:VCALENDAR
VERSION:2.0
PRODID:-//wp-events-plugin.com//7.2.3.1//EN
TZID:Europe/Berlin
X-WR-TIMEZONE:Europe/Berlin
BEGIN:VEVENT
UID:2079@heimatverein-verl.de
DTSTART;TZID=Europe/Berlin:20260711T140000
DTEND;TZID=Europe/Berlin:20260711T153000
DTSTAMP:20251011T093520Z
URL:https://heimatverein-verl.de/events/oeffentliche-stadtfuehrung-durch-d
 en-ortskern-verls-4/
SUMMARY:öffentliche Stadtführung durch den Ortskern Verls
DESCRIPTION:Wir besuchen historisch bedeutsame\, aktuell relevante und weni
 g bekannte Stellen in Verl.\n\nMitglieder und Nicht-Mitglieder sind willko
 mmen.\n\neine Anmeldung ist nicht nötig\, Dauer ca 1\,5 Std\,
CATEGORIES:Führungen
LOCATION:Heimathaus Verl\, Sender Straße 8\, Verl\, 33415\, Deutschland
GEO:51.884794;8.508879
X-APPLE-STRUCTURED-LOCATION;VALUE=URI;X-ADDRESS=Sender Straße 8\, Verl\, 3
 3415\, Deutschland;X-APPLE-RADIUS=100;X-TITLE=Heimathaus Verl:geo:51.88479
 4,8.508879
END:VEVENT
BEGIN:VTIMEZONE
TZID:Europe/Berlin
X-LIC-LOCATION:Europe/Berlin
BEGIN:DAYLIGHT
DTSTART:20260329T030000
TZOFFSETFROM:+0100
TZOFFSETTO:+0200
TZNAME:CEST
END:DAYLIGHT
END:VTIMEZONE
END:VCALENDAR