BEGIN:VCALENDAR
VERSION:2.0
PRODID:-//wp-events-plugin.com//7.2.3.1//EN
TZID:Europe/Berlin
X-WR-TIMEZONE:Europe/Berlin
BEGIN:VEVENT
UID:2423@heimatverein-verl.de
DTSTART;TZID=Europe/Berlin:20260423T074500
DTEND;TZID=Europe/Berlin:20260423T160000
DTSTAMP:20260421T074919Z
URL:https://heimatverein-verl.de/events/girls-day-orientierung-fuer-die-zu
 kuenftige-berufswahl/
SUMMARY:Girls Day - Orientierung für die zukünftige Berufswahl
DESCRIPTION:Der Girls'Day (Mädchen-Zukunftstag) ist das weltweit größte
  Berufsorientierungsprojekt für Schülerinnen. Einmal jährlich – meist
  im April – schnuppern Mädchen ab der 5. Klasse in Berufe der IT\, Hand
 werk\, Technik und Naturwissenschaften\, in denen bisher überwiegend Män
 ner arbeiten. Ziel ist es\, Geschlechterklischees abzubauen und Mädchen f
 ür zukunftsorientierte MINT-Berufe zu begeistern. \n\nZielgruppe: Schü
 lerinnen ab der 5. Klasse\, alle Schulformen.\n\nInhalte: Die Teilnehmerin
 nen lernen durch Workshops\, Schnupperpraktika oder Online-Formate Berufe 
 kennen\, in denen der Frauenanteil unter 40 % liegt\n\nDer Heimatverein Ve
 rl bietet einen Einblick in die vielfältige Arbeit von Landschaftsgärtne
 rn.\n\nNeben praktischen Aufgaben auf der Obstbaumwiese Verl werden in ein
 em kurzen Theorie-Teil auch die organisatorischen Rahmenbedingen erläuter
 t (Kommunikation unter einander\, Verlässigkeit\, Pünktlichkeit etc.)\n\
 nTreffpunkt 7:45 Uhr im Heimathaus Verl. Ende gegen 16:00 Uhr\n\nLeitung: 
 Mirco Berenbrinker
CATEGORIES:Seminar,Kinder und Jugend,Obstwiese
LOCATION:Heimathaus Verl\, Sender Straße 8\, Verl\, 33415\, Deutschland
GEO:51.884794;8.508879
X-APPLE-STRUCTURED-LOCATION;VALUE=URI;X-ADDRESS=Sender Straße 8\, Verl\, 3
 3415\, Deutschland;X-APPLE-RADIUS=100;X-TITLE=Heimathaus Verl:geo:51.88479
 4,8.508879
END:VEVENT
BEGIN:VTIMEZONE
TZID:Europe/Berlin
X-LIC-LOCATION:Europe/Berlin
BEGIN:DAYLIGHT
DTSTART:20260329T030000
TZOFFSETFROM:+0100
TZOFFSETTO:+0200
TZNAME:CEST
END:DAYLIGHT
END:VTIMEZONE
END:VCALENDAR