BEGIN:VCALENDAR
VERSION:2.0
PRODID:-//wp-events-plugin.com//7.2.3.1//EN
TZID:Europe/Berlin
X-WR-TIMEZONE:Europe/Berlin
BEGIN:VEVENT
UID:2075@heimatverein-verl.de
DTSTART;TZID=Europe/Berlin:20260509T160000
DTEND;TZID=Europe/Berlin:20260509T173000
DTSTAMP:20251027T115241Z
URL:https://heimatverein-verl.de/events/der-verler-friedhof-fuehrung/
SUMMARY:Der Verler Friedhof - Entwicklung und Friedhofskultur
DESCRIPTION: Der Heimatverein Verl bietet  eine Führung zur Verler Fried
 hofgeschichte an.\n\nDie Teilnehmer erfahren geschichtlich – historische
 s zur Entwicklung der Friedhofskultur in Verl\,\n\nüber die Symbolsprache
  und Sinnsprüche von bedeutenden Grabdenkmalen. Der Wandel in der\n\nBest
 attungskultur wird ebenso thematisiert wie die Bedeutung von Friedhöfen a
 ls Parklandschaft-\n\nund Kommunikationsräume für uns Menschen.\n\nTreff
 punkt ist die zentrale Kreuzanlage auf dem Friedhof. Die Teilnahme ist kos
 tenfrei.\n\nFührung: Roland Behrendt
CATEGORIES:Führungen,Kulturführungen
END:VEVENT
BEGIN:VTIMEZONE
TZID:Europe/Berlin
X-LIC-LOCATION:Europe/Berlin
BEGIN:DAYLIGHT
DTSTART:20260329T030000
TZOFFSETFROM:+0100
TZOFFSETTO:+0200
TZNAME:CEST
END:DAYLIGHT
END:VTIMEZONE
END:VCALENDAR